BEGIN:VCALENDAR
VERSION:2.0
PRODID:-//eventon.com NONSGML v1.0//EN
CALSCALE:GREGORIAN
METHOD:PUBLISH
BEGIN:VEVENT
UID:69e6336783dbc
DTSTAMP:20260420T140839Z
DTSTART:20260831
DTEND:20260901
LOCATION:
SUMMARY:Triomf Open Tennis & Padel
DESCRIPTION:Ieder jaar in september kan je het zomerseizoen afsluiten met h
 et Triomf Open. Op ons mooie park worden een week lang tennis- en padelweds
 trijden gespeeld op verschillende niveaus. Van 31 augustus tot en met 6 se
 ptember 2026 wordt Triomf Open dit jaar georganiseerd. Nadere info volgt&#
 8230; Sportieve groet\, Triomf Open Commissie\nhttps://www.ltctriomf.nl/eve
 nts/veldwerk-open/
URL:https://www.ltctriomf.nl/events/veldwerk-open/
END:VEVENT
END:VCALENDAR